BEGIN:VCALENDAR
VERSION:2.0
PRODID:-//Coastal Carolina Area of Narcotics Anonymous - ECPv6.15.20//NONSGML v1.0//EN
CALSCALE:GREGORIAN
METHOD:PUBLISH
X-ORIGINAL-URL:https://dev.coastalcarolinaarea.org
X-WR-CALDESC:Events for Coastal Carolina Area of Narcotics Anonymous
REFRESH-INTERVAL;VALUE=DURATION:PT1H
X-Robots-Tag:noindex
X-PUBLISHED-TTL:PT1H
BEGIN:VTIMEZONE
TZID:America/New_York
BEGIN:DAYLIGHT
TZOFFSETFROM:-0500
TZOFFSETTO:-0400
TZNAME:EDT
DTSTART:20240310T070000
END:DAYLIGHT
BEGIN:STANDARD
TZOFFSETFROM:-0400
TZOFFSETTO:-0500
TZNAME:EST
DTSTART:20241103T060000
END:STANDARD
BEGIN:DAYLIGHT
TZOFFSETFROM:-0500
TZOFFSETTO:-0400
TZNAME:EDT
DTSTART:20250309T070000
END:DAYLIGHT
BEGIN:STANDARD
TZOFFSETFROM:-0400
TZOFFSETTO:-0500
TZNAME:EST
DTSTART:20251102T060000
END:STANDARD
BEGIN:DAYLIGHT
TZOFFSETFROM:-0500
TZOFFSETTO:-0400
TZNAME:EDT
DTSTART:20260308T070000
END:DAYLIGHT
BEGIN:STANDARD
TZOFFSETFROM:-0400
TZOFFSETTO:-0500
TZNAME:EST
DTSTART:20261101T060000
END:STANDARD
END:VTIMEZONE
BEGIN:VEVENT
DTSTART;TZID=America/New_York:20251127T120000
DTEND;TZID=America/New_York:20251127T150000
DTSTAMP:20260421T080304
CREATED:20231110T131519Z
LAST-MODIFIED:20251105T005139Z
UID:1463-1764244800-1764255600@dev.coastalcarolinaarea.org
SUMMARY:Thanksgiving Meal & Speaker
DESCRIPTION:The Events & Activities Subcommittee will be hosting a Thanksgiving Day meal and speakers. Homegroups or individuals are asked to bring a side or dessert if possible. Come out and enjoy food\, fun\, and fellowship! \nClick here for side dish and dessert sign-up sheet
URL:https://dev.coastalcarolinaarea.org/event/thanksgiving-meal-speaker/
LOCATION:St. Paul’s Lutheran Church\, 12 N. 6th St\, Wilmington\, NC\, 28401\, United States
CATEGORIES:Annual Events
ATTACH;FMTTYPE=image/jpeg:https://dev.coastalcarolinaarea.org/wp-content/uploads/2017/11/Turkey.jpg
END:VEVENT
END:VCALENDAR