BEGIN:VCALENDAR
VERSION:2.0
PRODID:-//Coastal Carolina Area of Narcotics Anonymous - ECPv6.15.20//NONSGML v1.0//EN
CALSCALE:GREGORIAN
METHOD:PUBLISH
X-WR-CALNAME:Coastal Carolina Area of Narcotics Anonymous
X-ORIGINAL-URL:https://dev.coastalcarolinaarea.org
X-WR-CALDESC:Events for Coastal Carolina Area of Narcotics Anonymous
REFRESH-INTERVAL;VALUE=DURATION:PT1H
X-Robots-Tag:noindex
X-PUBLISHED-TTL:PT1H
BEGIN:VTIMEZONE
TZID:America/New_York
BEGIN:DAYLIGHT
TZOFFSETFROM:-0500
TZOFFSETTO:-0400
TZNAME:EDT
DTSTART:20240310T070000
END:DAYLIGHT
BEGIN:STANDARD
TZOFFSETFROM:-0400
TZOFFSETTO:-0500
TZNAME:EST
DTSTART:20241103T060000
END:STANDARD
BEGIN:DAYLIGHT
TZOFFSETFROM:-0500
TZOFFSETTO:-0400
TZNAME:EDT
DTSTART:20250309T070000
END:DAYLIGHT
BEGIN:STANDARD
TZOFFSETFROM:-0400
TZOFFSETTO:-0500
TZNAME:EST
DTSTART:20251102T060000
END:STANDARD
BEGIN:DAYLIGHT
TZOFFSETFROM:-0500
TZOFFSETTO:-0400
TZNAME:EDT
DTSTART:20260308T070000
END:DAYLIGHT
BEGIN:STANDARD
TZOFFSETFROM:-0400
TZOFFSETTO:-0500
TZNAME:EST
DTSTART:20261101T060000
END:STANDARD
END:VTIMEZONE
BEGIN:VEVENT
DTSTART;TZID=America/New_York:20251224T180000
DTEND;TZID=America/New_York:20251225T170000
DTSTAMP:20260421T065530
CREATED:20231209T205731Z
LAST-MODIFIED:20251227T221235Z
UID:1473-1766599200-1766682000@dev.coastalcarolinaarea.org
SUMMARY:Holiday Marathon Meetings 12/24/25 - 12/25/25
DESCRIPTION:Marathon meetings will be held at 1602 Club from 12/24 @6pm to 12/25 @4pm with the last meeting starting at 4pm. Meetings will be held every 2 hours. ( 6pm\, 8pm\, 10pm\, 12am\, 2am\, etc.\, for a total of 12 meetings.)
URL:https://dev.coastalcarolinaarea.org/event/xmas-marathon-meetings/
LOCATION:1602 Club\, 1602 S. Front St\, Wilmington\, NC\, 28401\, United States
CATEGORIES:Annual Events
ATTACH;FMTTYPE=image/png:https://dev.coastalcarolinaarea.org/wp-content/uploads/2023/12/Holidays-e1734114971599.png
END:VEVENT
END:VCALENDAR